BEGIN:VCALENDAR
VERSION:2.0
PRODID:-//Ganga Hoogendoorn - ECPv6.15.17//NONSGML v1.0//EN
CALSCALE:GREGORIAN
METHOD:PUBLISH
X-ORIGINAL-URL:https://gangahoogendoorn.com
X-WR-CALDESC:Evenementen voor Ganga Hoogendoorn
REFRESH-INTERVAL;VALUE=DURATION:PT1H
X-Robots-Tag:noindex
X-PUBLISHED-TTL:PT1H
BEGIN:VTIMEZONE
TZID:Europe/Paris
BEGIN:DAYLIGHT
TZOFFSETFROM:+0100
TZOFFSETTO:+0200
TZNAME:CEST
DTSTART:20230326T010000
END:DAYLIGHT
BEGIN:STANDARD
TZOFFSETFROM:+0200
TZOFFSETTO:+0100
TZNAME:CET
DTSTART:20231029T010000
END:STANDARD
BEGIN:DAYLIGHT
TZOFFSETFROM:+0100
TZOFFSETTO:+0200
TZNAME:CEST
DTSTART:20240331T010000
END:DAYLIGHT
BEGIN:STANDARD
TZOFFSETFROM:+0200
TZOFFSETTO:+0100
TZNAME:CET
DTSTART:20241027T010000
END:STANDARD
BEGIN:DAYLIGHT
TZOFFSETFROM:+0100
TZOFFSETTO:+0200
TZNAME:CEST
DTSTART:20250330T010000
END:DAYLIGHT
BEGIN:STANDARD
TZOFFSETFROM:+0200
TZOFFSETTO:+0100
TZNAME:CET
DTSTART:20251026T010000
END:STANDARD
END:VTIMEZONE
BEGIN:VEVENT
DTSTART;TZID=Europe/Paris:20240512T100000
DTEND;TZID=Europe/Paris:20240512T120000
DTSTAMP:20260421T200741
CREATED:20240314T120129Z
LAST-MODIFIED:20240314T120129Z
UID:699-1715508000-1715515200@gangahoogendoorn.com
SUMMARY:Transformatieve teaching online 12 mei
DESCRIPTION:Ganga geeft regelmatig online teachings op basis van de Yoga en Een Cursus In Wonderen. Deze zijn te volgen via Zoom en je kan ze ook nagestuurd krijgen. \nKosten: €12\,50 \nAanmelden of vragen? Neem contact op via ganga.hoogendoorn@gmail.com of 0621595191
URL:https://gangahoogendoorn.com/event/transformatieve-teaching-online-12-mei/
LOCATION:Online
CATEGORIES:Transformatieve teaching
ATTACH;FMTTYPE=image/jpeg:https://gangahoogendoorn.com/wp-content/uploads/2024/01/DSC00174-scaled-e1708089392870.jpg
ORGANIZER;CN="Ganga Hoogendoorn":MAILTO:arthur@gangahoogendoorn.com
END:VEVENT
END:VCALENDAR