BEGIN:VCALENDAR
VERSION:2.0
PRODID:-//Ganga Hoogendoorn - ECPv6.15.17//NONSGML v1.0//EN
CALSCALE:GREGORIAN
METHOD:PUBLISH
X-WR-CALNAME:Ganga Hoogendoorn
X-ORIGINAL-URL:https://gangahoogendoorn.com
X-WR-CALDESC:Evenementen voor Ganga Hoogendoorn
REFRESH-INTERVAL;VALUE=DURATION:PT1H
X-Robots-Tag:noindex
X-PUBLISHED-TTL:PT1H
BEGIN:VTIMEZONE
TZID:Europe/Paris
BEGIN:DAYLIGHT
TZOFFSETFROM:+0100
TZOFFSETTO:+0200
TZNAME:CEST
DTSTART:20230326T010000
END:DAYLIGHT
BEGIN:STANDARD
TZOFFSETFROM:+0200
TZOFFSETTO:+0100
TZNAME:CET
DTSTART:20231029T010000
END:STANDARD
BEGIN:DAYLIGHT
TZOFFSETFROM:+0100
TZOFFSETTO:+0200
TZNAME:CEST
DTSTART:20240331T010000
END:DAYLIGHT
BEGIN:STANDARD
TZOFFSETFROM:+0200
TZOFFSETTO:+0100
TZNAME:CET
DTSTART:20241027T010000
END:STANDARD
BEGIN:DAYLIGHT
TZOFFSETFROM:+0100
TZOFFSETTO:+0200
TZNAME:CEST
DTSTART:20250330T010000
END:DAYLIGHT
BEGIN:STANDARD
TZOFFSETFROM:+0200
TZOFFSETTO:+0100
TZNAME:CET
DTSTART:20251026T010000
END:STANDARD
END:VTIMEZONE
BEGIN:VEVENT
DTSTART;TZID=Europe/Paris:20240211T100000
DTEND;TZID=Europe/Paris:20240211T110000
DTSTAMP:20260422T010753
CREATED:20240216T143753Z
LAST-MODIFIED:20240314T115925Z
UID:532-1707645600-1707649200@gangahoogendoorn.com
SUMMARY:Transformatieve teaching 11 februari 2024
DESCRIPTION:Ganga geeft regelmatig online teachings op basis van de Yoga en Een Cursus In Wonderen. Deze zijn te volgen via Zoom en je kan ze ook nagestuurd krijgen. \nDeze teaching is heel bijzonder. Die vindt namelijk plaats vanuit Bangalore met Deviamma.  Het is de eerste keer dat zij een online teaching doet. Gebruik deze unieke mogelijkheid om vragen te stellen aan de Goddelijke moeder over wat je tegenkomt op jouw spirituele pad. \nDeviamma is Goddelijke moeder en Guru voor velen en is vanaf 1996 in mijn leven. \nStap voor stap heeft Deviamma mij bij de hand genomen en mijn innerlijk weten bewust gemaakt. \nZij is de kracht\, die het mogelijk heeft gemaakt om Liefde uit te breiden en kennis te delen. \nMijn innige dankbaarheid gaat uit naar; \nGuru Agasthya\, Amma Kaveri\, \nSathya Sai Baba\, Vasantha Amma\, Jesus en alle andere Meesters. \nDeviamma zingt ॐ Ganesha Mantra & Kavacham:
URL:https://gangahoogendoorn.com/event/transformatieve-teaching-11-februari-2024/
LOCATION:Online
CATEGORIES:Transformatieve teaching
ATTACH;FMTTYPE=image/webp:https://gangahoogendoorn.com/wp-content/uploads/2024/02/Deviamma.webp
ORGANIZER;CN="Ganga Hoogendoorn":MAILTO:arthur@gangahoogendoorn.com
END:VEVENT
END:VCALENDAR