BEGIN:VCALENDAR
VERSION:2.0
PRODID:-//Ganga Hoogendoorn - ECPv6.15.17//NONSGML v1.0//EN
CALSCALE:GREGORIAN
METHOD:PUBLISH
X-ORIGINAL-URL:https://gangahoogendoorn.com
X-WR-CALDESC:Evenementen voor Ganga Hoogendoorn
REFRESH-INTERVAL;VALUE=DURATION:PT1H
X-Robots-Tag:noindex
X-PUBLISHED-TTL:PT1H
BEGIN:VTIMEZONE
TZID:Europe/Paris
BEGIN:DAYLIGHT
TZOFFSETFROM:+0100
TZOFFSETTO:+0200
TZNAME:CEST
DTSTART:20230326T010000
END:DAYLIGHT
BEGIN:STANDARD
TZOFFSETFROM:+0200
TZOFFSETTO:+0100
TZNAME:CET
DTSTART:20231029T010000
END:STANDARD
BEGIN:DAYLIGHT
TZOFFSETFROM:+0100
TZOFFSETTO:+0200
TZNAME:CEST
DTSTART:20240331T010000
END:DAYLIGHT
BEGIN:STANDARD
TZOFFSETFROM:+0200
TZOFFSETTO:+0100
TZNAME:CET
DTSTART:20241027T010000
END:STANDARD
BEGIN:DAYLIGHT
TZOFFSETFROM:+0100
TZOFFSETTO:+0200
TZNAME:CEST
DTSTART:20250330T010000
END:DAYLIGHT
BEGIN:STANDARD
TZOFFSETFROM:+0200
TZOFFSETTO:+0100
TZNAME:CET
DTSTART:20251026T010000
END:STANDARD
END:VTIMEZONE
BEGIN:VEVENT
DTSTART;TZID=Europe/Paris:20240317T110000
DTEND;TZID=Europe/Paris:20240317T123000
DTSTAMP:20260421T214308
CREATED:20240314T121305Z
LAST-MODIFIED:20240314T121935Z
UID:705-1710673200-1710678600@gangahoogendoorn.com
SUMMARY:Teaching bij Miracles in Contact 17 maart 2024
DESCRIPTION:Ganga wordt vaker uitgenodigd om een teaching te geven over de Cursus in Wonderen bij Miracles in Contact. \nDe teachings kunnen ook via Zoom gevolgd worden. \nDit keer is het thema: Ik ben verantwoordelijk voor wat ik zie. Ik kies de gevoelens die ik ervaar en beslis welk doel ik bereiken wil. En ik vraag om alles wat mij lijkt te overkomen en ontvang zoals ik heb gevraagd. \nAanvangstijden\, kosten\, opgave en andere bijzonderheden: www.miraclesincontact.nl onder ‘Bijeenkomsten/Ontmoetingsdagen’. \nGebouw ‘Sic Semper Loge\, IOOF’\, Bemuurde Weerd OZ 31\, 3514 AP te Utrecht
URL:https://gangahoogendoorn.com/event/teaching-bij-miracles-in-contact-17-maart-2024/
CATEGORIES:Transformatieve teaching
ATTACH;FMTTYPE=image/jpeg:https://gangahoogendoorn.com/wp-content/uploads/2024/01/Ganga-Hoogendoorn-600x600-1.jpg
END:VEVENT
END:VCALENDAR