BEGIN:VCALENDAR
VERSION:2.0
PRODID:-//Ganga Hoogendoorn - ECPv6.15.17//NONSGML v1.0//EN
CALSCALE:GREGORIAN
METHOD:PUBLISH
X-WR-CALNAME:Ganga Hoogendoorn
X-ORIGINAL-URL:https://gangahoogendoorn.com
X-WR-CALDESC:Evenementen voor Ganga Hoogendoorn
REFRESH-INTERVAL;VALUE=DURATION:PT1H
X-Robots-Tag:noindex
X-PUBLISHED-TTL:PT1H
BEGIN:VTIMEZONE
TZID:Europe/Paris
BEGIN:DAYLIGHT
TZOFFSETFROM:+0100
TZOFFSETTO:+0200
TZNAME:CEST
DTSTART:20230326T010000
END:DAYLIGHT
BEGIN:STANDARD
TZOFFSETFROM:+0200
TZOFFSETTO:+0100
TZNAME:CET
DTSTART:20231029T010000
END:STANDARD
BEGIN:DAYLIGHT
TZOFFSETFROM:+0100
TZOFFSETTO:+0200
TZNAME:CEST
DTSTART:20240331T010000
END:DAYLIGHT
BEGIN:STANDARD
TZOFFSETFROM:+0200
TZOFFSETTO:+0100
TZNAME:CET
DTSTART:20241027T010000
END:STANDARD
BEGIN:DAYLIGHT
TZOFFSETFROM:+0100
TZOFFSETTO:+0200
TZNAME:CEST
DTSTART:20250330T010000
END:DAYLIGHT
BEGIN:STANDARD
TZOFFSETFROM:+0200
TZOFFSETTO:+0100
TZNAME:CET
DTSTART:20251026T010000
END:STANDARD
END:VTIMEZONE
BEGIN:VEVENT
DTSTART;TZID=Europe/Paris:20240120T120000
DTEND;TZID=Europe/Paris:20240120T180000
DTSTAMP:20260422T105133
CREATED:20240216T140829Z
LAST-MODIFIED:20240216T140829Z
UID:527-1705752000-1705773600@gangahoogendoorn.com
SUMMARY:Pranayama intensive 20 januari 2024
DESCRIPTION:Yoga is het achtvoudige pad tot grotere bewustwording\, danwel de volledige realisatie van God\, Liefde\, Waarheid\, Zelf\, Zijn. Met andere woorden\, hoewel zij natuurlijk belangrijk zijn\, Yoga is veel meer dan houdingen alleen. \nTijdens deze intensive duiken we dieper in de Pranayama’s\, de ademhalingsoefeningen.
URL:https://gangahoogendoorn.com/event/pranayama-intensive-20-januari-2024/
LOCATION:Sai Mithra Yoga\, Sint Antoniesbreestraat 102\, Amsterdam\, 1011 HB\, Nederland
CATEGORIES:Pranayama
ATTACH;FMTTYPE=image/jpeg:https://gangahoogendoorn.com/wp-content/uploads/2024/02/pexels-ivan-samkov-6648567-scaled.jpg
ORGANIZER;CN="Ganga Hoogendoorn":MAILTO:arthur@gangahoogendoorn.com
END:VEVENT
END:VCALENDAR