BEGIN:VCALENDAR
VERSION:2.0
PRODID:-//Ganga Hoogendoorn - ECPv6.15.17//NONSGML v1.0//EN
CALSCALE:GREGORIAN
METHOD:PUBLISH
X-ORIGINAL-URL:https://gangahoogendoorn.com
X-WR-CALDESC:Evenementen voor Ganga Hoogendoorn
REFRESH-INTERVAL;VALUE=DURATION:PT1H
X-Robots-Tag:noindex
X-PUBLISHED-TTL:PT1H
BEGIN:VTIMEZONE
TZID:Europe/Paris
BEGIN:DAYLIGHT
TZOFFSETFROM:+0100
TZOFFSETTO:+0200
TZNAME:CEST
DTSTART:20230326T010000
END:DAYLIGHT
BEGIN:STANDARD
TZOFFSETFROM:+0200
TZOFFSETTO:+0100
TZNAME:CET
DTSTART:20231029T010000
END:STANDARD
BEGIN:DAYLIGHT
TZOFFSETFROM:+0100
TZOFFSETTO:+0200
TZNAME:CEST
DTSTART:20240331T010000
END:DAYLIGHT
BEGIN:STANDARD
TZOFFSETFROM:+0200
TZOFFSETTO:+0100
TZNAME:CET
DTSTART:20241027T010000
END:STANDARD
BEGIN:DAYLIGHT
TZOFFSETFROM:+0100
TZOFFSETTO:+0200
TZNAME:CEST
DTSTART:20250330T010000
END:DAYLIGHT
BEGIN:STANDARD
TZOFFSETFROM:+0200
TZOFFSETTO:+0100
TZNAME:CET
DTSTART:20251026T010000
END:STANDARD
END:VTIMEZONE
BEGIN:VEVENT
DTSTART;TZID=Europe/Paris:20240317T203000
DTEND;TZID=Europe/Paris:20240317T213000
DTSTAMP:20260422T063506
CREATED:20240209T165905Z
LAST-MODIFIED:20250121T171712Z
UID:484-1710707400-1710711000@gangahoogendoorn.com
SUMMARY:Online cursus subtiele Pranayama
DESCRIPTION:Deze energie beheers cursus op subtiel niveau is niet veel aangeboden\, maar misschien wel de meest krachtige pranayama cursus. Deze cursus is niet op basis van ademhaling\, maar op basis van energie. Opgebouwd van uitwerking op fysiek niveau naar een uitwerking op Causaal (oorzakelijk of gelukzalig) niveau. Na deze cursus kun je je eigen energie beheersen/besturen. De eerste pranayama is om te reinigen\, de daar op volgende vijf  pranayamas werken op specifieke lichamelijke ongemakken en de laatste 3 werken op het energetisch/universeel niveau. \nEr zijn 11 lessen online en worden met zoom opgenomen en nagestuurd. \nDe cursus begint op 17 maart 2024\, met de volgende lessen op 21 april en 26 mei. De overige 8 data worden later ingepland. \nLees meer over de Pranayama cursus op: \nYoga \n \n​
URL:https://gangahoogendoorn.com/event/online-cursus-subtiele-pranayama/
LOCATION:Online
CATEGORIES:Pranayama
ATTACH;FMTTYPE=image/jpeg:https://gangahoogendoorn.com/wp-content/uploads/2024/01/DSC00085-1-scaled.jpg
END:VEVENT
END:VCALENDAR